BEGIN:VCALENDAR
VERSION:2.0
PRODID:-//Deltaclub Interlaken - ECPv6.2.0//NONSGML v1.0//EN
CALSCALE:GREGORIAN
METHOD:PUBLISH
X-ORIGINAL-URL:https://deltaclub-interlaken.ch
X-WR-CALDESC:Veranstaltungen für Deltaclub Interlaken
REFRESH-INTERVAL;VALUE=DURATION:PT1H
X-Robots-Tag:noindex
X-PUBLISHED-TTL:PT1H
BEGIN:VTIMEZONE
TZID:Europe/Zurich
BEGIN:DAYLIGHT
TZOFFSETFROM:+0100
TZOFFSETTO:+0200
TZNAME:CEST
DTSTART:20200329T010000
END:DAYLIGHT
BEGIN:STANDARD
TZOFFSETFROM:+0200
TZOFFSETTO:+0100
TZNAME:CET
DTSTART:20201025T010000
END:STANDARD
END:VTIMEZONE
BEGIN:VEVENT
DTSTART;TZID=Europe/Zurich:20201127T180000
DTEND;TZID=Europe/Zurich:20201127T220000
DTSTAMP:20260422T084250
CREATED:20200211T102129Z
LAST-MODIFIED:20201018T202548Z
UID:1602-1606500000-1606514400@deltaclub-interlaken.ch
SUMMARY:Helferessen DCI 2019/2020
DESCRIPTION:Helferessen DCI 2019/2020 \nBesten Dank für euer Engagement im Club. \nDie aktuelle Covid-19 Situation würde für einen ungezwungenen Anlass zu viele Restriktionen und Regeln verlangen. Aus diesem Grund haben wir uns entschieden\, den Anlass abzusagen. \nWir freuen uns bereits jetzt auf ein maskenloses\, eventreiches Clubjahr 2021!!!! \nWir sehen uns an der HV 2021… \nWeiterhin allen schöne Flüge an der frischen Luft und gute Gesundheit. \nEuer Vorstand DCI
URL:https://deltaclub-interlaken.ch/event/helferessen-dci-2019-2020/
END:VEVENT
END:VCALENDAR