BEGIN:VCALENDAR
VERSION:2.0
PRODID:-//Deltaclub Interlaken - ECPv6.2.0//NONSGML v1.0//EN
CALSCALE:GREGORIAN
METHOD:PUBLISH
X-WR-CALNAME:Deltaclub Interlaken
X-ORIGINAL-URL:https://deltaclub-interlaken.ch
X-WR-CALDESC:Veranstaltungen für Deltaclub Interlaken
REFRESH-INTERVAL;VALUE=DURATION:PT1H
X-Robots-Tag:noindex
X-PUBLISHED-TTL:PT1H
BEGIN:VTIMEZONE
TZID:Europe/Zurich
BEGIN:DAYLIGHT
TZOFFSETFROM:+0100
TZOFFSETTO:+0200
TZNAME:CEST
DTSTART:20200329T010000
END:DAYLIGHT
BEGIN:STANDARD
TZOFFSETFROM:+0200
TZOFFSETTO:+0100
TZNAME:CET
DTSTART:20201025T010000
END:STANDARD
END:VTIMEZONE
BEGIN:VEVENT
DTSTART;TZID=Europe/Zurich:20200207T200000
DTEND;TZID=Europe/Zurich:20200207T220000
DTSTAMP:20260424T135215
CREATED:20190415T183313Z
LAST-MODIFIED:20190707T155214Z
UID:779-1581105600-1581112800@deltaclub-interlaken.ch
SUMMARY:HV DCI
DESCRIPTION:Datum: 7.2.2020 \nOrt: Mattenhof Matten \nZeit: 20:00 \nWeitere Details und Einladung folgen per Mail…
URL:https://deltaclub-interlaken.ch/event/hv-dci/
END:VEVENT
END:VCALENDAR