BEGIN:VCALENDAR
VERSION:2.0
PRODID:-//Deltaclub Interlaken - ECPv6.2.0//NONSGML v1.0//EN
CALSCALE:GREGORIAN
METHOD:PUBLISH
X-WR-CALNAME:Deltaclub Interlaken
X-ORIGINAL-URL:https://deltaclub-interlaken.ch
X-WR-CALDESC:Veranstaltungen für Deltaclub Interlaken
REFRESH-INTERVAL;VALUE=DURATION:PT1H
X-Robots-Tag:noindex
X-PUBLISHED-TTL:PT1H
BEGIN:VTIMEZONE
TZID:Europe/Zurich
BEGIN:DAYLIGHT
TZOFFSETFROM:+0100
TZOFFSETTO:+0200
TZNAME:CEST
DTSTART:20200329T010000
END:DAYLIGHT
BEGIN:STANDARD
TZOFFSETFROM:+0200
TZOFFSETTO:+0100
TZNAME:CET
DTSTART:20201025T010000
END:STANDARD
END:VTIMEZONE
BEGIN:VEVENT
DTSTART;TZID=Europe/Zurich:20201003T080000
DTEND;TZID=Europe/Zurich:20201003T170000
DTSTAMP:20260422T083925
CREATED:20200116T102710Z
LAST-MODIFIED:20201001T110636Z
UID:1498-1601712000-1601744400@deltaclub-interlaken.ch
SUMMARY:Hike & Fly Bällenhöchst
DESCRIPTION:Datum: 03.10.2020 -> abgesagt\nHike: Anfahrt via Isenfluh – Sulwald Bähndli\, Aufstieg via Mäderalp – Gumma\, spannende alternative zur Normalroute\, kurz etwas ausgesetzt aber nie schwierig. Gehzeit 2.5h\, 700 Höhenmeter\nFly: Flug nach Höhenmatte Interlaken\nStartplatz: einfacher\, Startplatz\nVerpflegung: Jeder ist für seine Verpflegung selbst verantwortlich. Landebier/Tee/Sandwich wird vom Club übernommen.\nTreffpunkt: Interlaken West 08:57 Bus 105 Wilderswil\, Wilderswil 09:10 Gelis 2AB Zug nach Lauterbrunnen.\nDurchführungsentscheid: Auf Grund der Wetterlage leider abgesagt!!!\nLeitung: Andreas Fuchs\nWichtig: Dies ist eine Hike & Fly Tour\, bei welcher sich brevetierte Piloten für einen gemeinsamen Event treffen. Der DCI übernimmt keine Haftung für jegliche Vorkommnisse. Jeder Pilot\, jede Pilotin entscheidet selbst und ist für sein Tun verantwortlich.
URL:https://deltaclub-interlaken.ch/event/hike-fly-baellenhoechst/
END:VEVENT
BEGIN:VEVENT
DTSTART;TZID=Europe/Zurich:20201010T080000
DTEND;TZID=Europe/Zurich:20201010T170000
DTSTAMP:20260422T083925
CREATED:20200207T105533Z
LAST-MODIFIED:20201008T175910Z
UID:1552-1602316800-1602349200@deltaclub-interlaken.ch
SUMMARY:Hike & Fly Glecksteinhütte mit Übernachtung
DESCRIPTION:Datum: 10.+11.10.2020\nHike & Fly Details: 12:05 Uhr Zug ab Interlaken Ost\, Abzweigung Glecksteinhütte ca. 13:30 Uhr\, Aufstieg zur Hütte ca. 2h\, Übernachtung in der Hütte\, am 11.10.20. für Frühaufsteher Aufstieg auf das Chrinnenhorn … oder ausschlafen. Ab ca. Mittag Flug ins Tal.\nVerpflegung: Die Hütte ist an diesem Wochenende voraussichtlich bereits geschlossen\, sprich wir werden selbst kochen. Nachtessen und Frühstück wird die Tourenleitung besorgen\, Zwischenverpflegungen nimmt jeder selbst mit.\nÜbernachtung mit Schutzmassnahmen: bitte folgendes selbst mitbringen -> Hütten- oder normalen Schlafsack\, Kissenbezug\, Handtuch\, Desinfektionsmittel\, Schutzmaske.\nDurchführungsentscheid: Findet nicht statt\nLeitung: Norbi und Tinel\nWichtig: Dies ist eine Hike & Fly Tour\, bei welcher sich brevetierte Piloten für einen gemeinsamen Event treffen. Der DCI übernimmt keine Haftung für jegliche Vorkommnisse. Jeder Pilot\, jede Pilotin entscheidet selbst und ist für sein Tun verantwortlich.\n\n  \n 
URL:https://deltaclub-interlaken.ch/event/hike-fly-mit-tinel-und-norbi/
END:VEVENT
BEGIN:VEVENT
DTSTART;TZID=Europe/Zurich:20201024T170000
DTEND;TZID=Europe/Zurich:20201024T230000
DTSTAMP:20260422T083925
CREATED:20200207T105300Z
LAST-MODIFIED:20201018T203803Z
UID:1548-1603558800-1603580400@deltaclub-interlaken.ch
SUMMARY:Saisonabschluss  ABGESAGT!
DESCRIPTION:EVENT ABGESAGT!\n\nDatum: 24.10.2020\nOrt: Blockhaus und Woodstöckli Camping Alpenblick Unterseen\n\n  \nDie aktuelle Covid-19 Situation würde für einen ungezwungenen Anlass zu viele Restriktionen und Regeln verlangen. Aus diesem Grund haben wir uns entschieden\, den Anlass abzusagen. \nWir freuen uns bereits jetzt auf ein maskenloses\, eventreiches Clubjahr 2021!!!! \nWir sehen uns an der HV 2021… \nWeiterhin allen schöne Flüge an der frischen Luft und gute Gesundheit. \nEuer Vorstand DCI
URL:https://deltaclub-interlaken.ch/event/1548/
END:VEVENT
END:VCALENDAR